BEGIN:VCALENDAR
VERSION:2.0
PRODID:icalendar-ruby
CALSCALE:GREGORIAN
METHOD:PUBLISH
BEGIN:VEVENT
DTSTAMP:20260422T163425Z
UID:58-379762@elimchristianfellowship.org
DTSTART:20260530T130000Z
DTEND:20260530T180000Z
CLASS:PUBLIC
CREATED:20260412T131357
DESCRIPTION:
LAST-MODIFIED:20260412T131357
LOCATION:
SUMMARY:SCM Prayer Breakfast
URL;VALUE=URI:https://www.elimchristianfellowship.org/events/scm-prayer-bre
 akfast/2026-05-30
ATTACH;FILENAME=SCM Prayer Breakfast.jpg;FMTTYPE=image/jpeg:https://dq5pwpg
 1q8ru0.cloudfront.net/2026/04/12/17/12/42/a9ebab94-39db-4e15-84fb-4c086a8a
 94a1/SCM%20Prayer%20Breakfast.jpg
END:VEVENT
END:VCALENDAR
