BEGIN:VCALENDAR
VERSION:2.0
PRODID:icalendar-ruby
CALSCALE:GREGORIAN
METHOD:PUBLISH
BEGIN:VEVENT
DTSTAMP:20260422T145329Z
UID:34-345949@elimchristianfellowship.org
DTSTART;VALUE=DATE:20260524
DTEND;VALUE=DATE:20260524
CLASS:PUBLIC
CREATED:20260321T180750
DESCRIPTION:
LAST-MODIFIED:20260321T180750
LOCATION:
SUMMARY:Women's Day Service
URL;VALUE=URI:https://www.elimchristianfellowship.org/events/womens-day-ser
 vice/2026-05-24
END:VEVENT
END:VCALENDAR
